BEGIN:VCALENDAR
VERSION:2.0
PRODID:-//Tipperary Green Business Network - ECPv4.6.2//NONSGML v1.0//EN
CALSCALE:GREGORIAN
METHOD:PUBLISH
X-WR-CALNAME:Tipperary Green Business Network
X-ORIGINAL-URL:http://tgbn.ie
X-WR-CALDESC:Events for Tipperary Green Business Network
BEGIN:VEVENT
DTSTART;TZID=Europe/Dublin:20171025T090000
DTEND;TZID=Europe/Dublin:20171025T130000
DTSTAMP:20171024T022904
CREATED:20171012T143222Z
LAST-MODIFIED:20171012T143222Z
UID:5174-1508922000-1508936400@tgbn.ie
SUMMARY:Reducing Waste and Reducing Costs in your Business’
DESCRIPTION:
URL:http://tgbn.ie/event/reducing-waste-reducing-costs-business/
LOCATION:Rock Lane\, Cashel\, Co. Tipperary
ATTACH;FMTTYPE=image/png:http://tgbn.ie/wp-content/uploads/2017/10/Cashel-1.png
END:VEVENT
BEGIN:VEVENT
DTSTART;TZID=Europe/Dublin:20171026T090000
DTEND;TZID=Europe/Dublin:20171026T130000
DTSTAMP:20171024T022904
CREATED:20171012T143548Z
LAST-MODIFIED:20171012T143548Z
UID:5177-1509008400-1509022800@tgbn.ie
SUMMARY:Reducing Waste and Reducing Costs in your Business
DESCRIPTION:
URL:http://tgbn.ie/event/reducing-waste-reducing-costs-business-2/
LOCATION:Ireland
ATTACH;FMTTYPE=image/png:http://tgbn.ie/wp-content/uploads/2017/10/Nenagh-1.png
END:VEVENT
END:VCALENDAR